BEGIN:VCALENDAR
VERSION:2.0
PRODID:-//carshowsnow.com - ECPv6.15.20//NONSGML v1.0//EN
CALSCALE:GREGORIAN
METHOD:PUBLISH
X-WR-CALNAME:carshowsnow.com
X-ORIGINAL-URL:https://carshowsnow.com
X-WR-CALDESC:Events for carshowsnow.com
REFRESH-INTERVAL;VALUE=DURATION:PT1H
X-Robots-Tag:noindex
X-PUBLISHED-TTL:PT1H
BEGIN:VTIMEZONE
TZID:UTC
BEGIN:STANDARD
TZOFFSETFROM:+0000
TZOFFSETTO:+0000
TZNAME:UTC
DTSTART:20240101T000000
END:STANDARD
END:VTIMEZONE
BEGIN:VEVENT
DTSTART;TZID=UTC:20250123T110000
DTEND;TZID=UTC:20250126T140000
DTSTAMP:20260419T163935
CREATED:20241027T152753Z
LAST-MODIFIED:20241027T152753Z
UID:1108-1737630000-1737900000@carshowsnow.com
SUMMARY:17th Annual Freeze For All
DESCRIPTION:MARK YOUR CALENDARSOur 17th annual #FreezeForAll event is officially on for January 23-26 2025 in Dunnellon Florida\nALL Vans and VW Buses are welcome to attendthis amazing 3 day camp out event with us out in Dunellon FL \n$50 Event Fee$25 Per Night Camping Fee\nArtwork By: @boogie_till_doomsday_duds @bus_2percent
URL:https://carshowsnow.com/event/17th-annual-freeze-for-all/
LOCATION:Dunellon\, Dunellon\, FL
CATEGORIES:FL,Van Show
ATTACH;FMTTYPE=image/jpeg:https://carshowsnow.com/wp-content/uploads/2024/10/Freeze-for-All.jpg
END:VEVENT
END:VCALENDAR