BEGIN:VCALENDAR
VERSION:2.0
PRODID:-//carshowsnow.com - ECPv6.15.20//NONSGML v1.0//EN
CALSCALE:GREGORIAN
METHOD:PUBLISH
X-ORIGINAL-URL:https://carshowsnow.com
X-WR-CALDESC:Events for carshowsnow.com
REFRESH-INTERVAL;VALUE=DURATION:PT1H
X-Robots-Tag:noindex
X-PUBLISHED-TTL:PT1H
BEGIN:VTIMEZONE
TZID:UTC
BEGIN:STANDARD
TZOFFSETFROM:+0000
TZOFFSETTO:+0000
TZNAME:UTC
DTSTART:20240101T000000
END:STANDARD
END:VTIMEZONE
BEGIN:VEVENT
DTSTART;TZID=UTC:20250825T090000
DTEND;TZID=UTC:20250825T170000
DTSTAMP:20260419T181404
CREATED:20250212T201644Z
LAST-MODIFIED:20250212T201644Z
UID:1596-1756112400-1756141200@carshowsnow.com
SUMMARY:Import Evolution\, Tampa
DESCRIPTION:TAMPA\, FL – GET READY!  Import Evolution is bringing the heat to the Sunshine State! Join us for an epic car show packed with the hottest builds\, insane entertainment\, and non-stop energy! You don’t want to miss this!  Florida State Fairgrounds Sunday Aug Tag your crew\, shine up your ride\, and let’s make history! #carshow #TampaCarScene#ImportEvolution #CarShowHype#FloridaCarCulture #ModifiedMadness \nSee less\n\n— at Florida State Fairgrounds.
URL:https://carshowsnow.com/event/import-evolution-tampa/
LOCATION:Florida State Fairgrounds\, 4800 N US Highway 301\, Tampa\, FL
CATEGORIES:Car Show,FL
ATTACH;FMTTYPE=image/jpeg:https://carshowsnow.com/wp-content/uploads/2025/02/Import-Evolution-Tampa.jpg
END:VEVENT
END:VCALENDAR